BEGIN:VCALENDAR
VERSION:2.0
PRODID:www.dzs.cz
BEGIN:VEVENT
UID:69ea190796fd4
DTSTART;VALUE=DATE:20210914
SEQUENCE:0
TRANSP:OPAQUE
DTEND;VALUE=DATE:20210919
URL:https://www.dzs.cz/udalost/pristi-stanice-svet-festival-mezinarodniho-v
 zdelavani
SUMMARY:Event: Příští stanice svět: festival mezinárodního vzděláv
 ání
CLASS:PUBLIC
X-MICROSOFT-CDO-ALLDAYEVENT:TRUE
DTSTAMP:20260423T130511Z
END:VEVENT
END:VCALENDAR