BEGIN:VCALENDAR
VERSION:2.0
PRODID:www.dzs.cz
BEGIN:VEVENT
UID:69e9ebe3891f6
DTSTART:20210923T073000Z
SEQUENCE:0
TRANSP:OPAQUE
DTEND:20210923T100000Z
URL:https://www.dzs.cz/udalost/informacni-seminar-o-nabidce-stipendii-proje
 ktu-mezinarodni-spoluprace-0
SUMMARY:Event: Informační seminář o nabídce stipendií a projektů mez
 inárodní spolupráce
CLASS:PUBLIC
DTSTAMP:20260423T095235Z
END:VEVENT
END:VCALENDAR