BEGIN:VCALENDAR
VERSION:2.0
PRODID:www.dzs.cz
BEGIN:VEVENT
UID:69ea04ce32419
DTSTART:20210422T080000Z
SEQUENCE:0
TRANSP:OPAQUE
DTEND:20210422T140000Z
URL:https://www.dzs.cz/udalost/odborne-vzdelavani-webinar-pro-predkladani-z
 adosti-ka2-2-termin
SUMMARY:Event: ODBORNÉ VZDĚLÁVÁNÍ: Webinář pro předkládání žád
 ostí KA2 - 2. termín
CLASS:PUBLIC
DTSTAMP:20260423T113854Z
END:VEVENT
END:VCALENDAR