BEGIN:VCALENDAR
VERSION:2.0
PRODID:www.dzs.cz
BEGIN:VEVENT
UID:69ea415b1825e
DTSTART:20260429T133000Z
SEQUENCE:0
TRANSP:OPAQUE
DTEND:20260429T150000Z
URL:https://www.dzs.cz/udalost/webinar-educating-thrive-digital-world
SUMMARY:Event: Webinář “Educating to Thrive in the Digital World”
CLASS:PUBLIC
DTSTAMP:20260423T155715Z
END:VEVENT
END:VCALENDAR