BEGIN:VCALENDAR
VERSION:2.0
PRODID:www.dzs.cz
BEGIN:VEVENT
UID:69e9ea30f24d9
DTSTART:20260226T093000Z
SEQUENCE:0
TRANSP:OPAQUE
DTEND:20260226T113000Z
URL:https://www.dzs.cz/udalost/webinar-lllab-2-social-european-semester-str
 engthens-lifelong-learning
SUMMARY:Event: Webinář LLLAB 2 - \"A social European Semester that streng
 thens lifelong learning\"
CLASS:PUBLIC
DTSTAMP:20260423T094520Z
END:VEVENT
END:VCALENDAR