BEGIN:VCALENDAR
VERSION:2.0
PRODID:www.dzs.cz
BEGIN:VEVENT
UID:69e9ed03b3d9b
DTSTART:20260219T093000Z
SEQUENCE:0
TRANSP:OPAQUE
DTEND:20260219T113000Z
URL:https://www.dzs.cz/udalost/webinar-lllab-1-your-role-shaping-union-skil
 ls
SUMMARY:Event: Webinář LLLAB 1 - \"Your role in shaping the Union of Skil
 ls\"
CLASS:PUBLIC
DTSTAMP:20260423T095723Z
END:VEVENT
END:VCALENDAR