BEGIN:VCALENDAR
VERSION:2.0
PRODID:www.dzs.cz
BEGIN:VEVENT
UID:69e9d8e41bbc2
DTSTART;VALUE=DATE:20260319
SEQUENCE:0
TRANSP:OPAQUE
DTEND;VALUE=DATE:20260321
URL:https://www.dzs.cz/udalost/konference-climate-neutral-blue-cities-2030-
 accelerating-local-change
SUMMARY:Event: Climate Neutral Blue Cities by 2030: Accelerating Local Chan
 ge
CLASS:PUBLIC
X-MICROSOFT-CDO-ALLDAYEVENT:TRUE
DTSTAMP:20260423T083132Z
END:VEVENT
END:VCALENDAR