BEGIN:VCALENDAR
VERSION:2.0
PRODID:www.dzs.cz
BEGIN:VEVENT
UID:69e9d8b91610b
DTSTART;VALUE=DATE:20260311
SEQUENCE:0
TRANSP:OPAQUE
DTEND;VALUE=DATE:20260312
URL:https://www.dzs.cz/udalost/summit-2026-udrzitelna-mobilita-z-pohledu-po
 dniku
SUMMARY:Event: SUMMIT 2026: Driving Sustainable Mobility From Business
CLASS:PUBLIC
X-MICROSOFT-CDO-ALLDAYEVENT:TRUE
DTSTAMP:20260423T083049Z
END:VEVENT
END:VCALENDAR