BEGIN:VCALENDAR
VERSION:2.0
PRODID:www.dzs.cz
BEGIN:VEVENT
UID:69e9d8e27bfc7
DTSTART;VALUE=DATE:20251201
SEQUENCE:0
TRANSP:OPAQUE
DTEND;VALUE=DATE:20251203
URL:https://www.dzs.cz/udalost/konference-vyznam-humanitnich-spolecenskych-
 ved-v-evropskych-transformacich-odolnosti
SUMMARY:Event: Humanities and Social Sciences in European Transformations a
 nd Resilience conference 
CLASS:PUBLIC
X-MICROSOFT-CDO-ALLDAYEVENT:TRUE
DTSTAMP:20260423T083130Z
END:VEVENT
END:VCALENDAR