BEGIN:VCALENDAR
VERSION:2.0
PRODID:www.dzs.cz
BEGIN:VEVENT
UID:69ea61fad1698
DTSTART:20260203T090000Z
SEQUENCE:0
TRANSP:OPAQUE
DTEND:20260203T110000Z
URL:https://www.dzs.cz/udalost/online-konzultace-czelo-k-centralizovanym-pr
 ojektum-erasmus-sport-1-termin
SUMMARY:Event: Online konzultace CZELO k centralizovaným projektům Erasmu
 s+ Sport (1. termín)
CLASS:PUBLIC
DTSTAMP:20260423T181626Z
END:VEVENT
END:VCALENDAR