BEGIN:VCALENDAR
VERSION:2.0
PRODID:www.dzs.cz
BEGIN:VEVENT
UID:69ea6215635f3
DTSTART:20251216T133000Z
SEQUENCE:0
TRANSP:OPAQUE
DTEND:20251216T143000Z
URL:https://www.dzs.cz/udalost/informacni-webinar-czelo-budovani-kapacit-ve
 -vysokoskolskem-vzdelavani
SUMMARY:Event: Informační webinář CZELO - Budování kapacit ve vysoko
 školském vzdělávání
CLASS:PUBLIC
DTSTAMP:20260423T181653Z
END:VEVENT
END:VCALENDAR