BEGIN:VCALENDAR
VERSION:2.0
PRODID:www.dzs.cz
BEGIN:VEVENT
UID:69e9d8d488a00
DTSTART;VALUE=DATE:20250624
SEQUENCE:0
TRANSP:OPAQUE
DTEND;VALUE=DATE:20250625
URL:https://www.dzs.cz/udalost/informacni-webinar-pro-zajemce-o-znacku-kval
 ity-quality-label-pro-dobrovolnictvi-v-oblasti
SUMMARY:Event: Info Day - European Solidarity Corps - Quality Label for Hum
 anitarian Aid Volunteering
CLASS:PUBLIC
X-MICROSOFT-CDO-ALLDAYEVENT:TRUE
DTSTAMP:20260423T083116Z
END:VEVENT
END:VCALENDAR