BEGIN:VCALENDAR
VERSION:2.0
PRODID:www.dzs.cz
BEGIN:VEVENT
UID:69e9ee3b9c341
DTSTART;VALUE=DATE:20250515
SEQUENCE:0
TRANSP:OPAQUE
DTEND;VALUE=DATE:20250517
URL:https://www.dzs.cz/udalost/lifescience4eu-konference
SUMMARY:Event: LifeScience4EU conference
CLASS:PUBLIC
X-MICROSOFT-CDO-ALLDAYEVENT:TRUE
DTSTAMP:20260423T100235Z
END:VEVENT
END:VCALENDAR