BEGIN:VCALENDAR
VERSION:2.0
PRODID:www.dzs.cz
BEGIN:VEVENT
UID:69e9d8d1b82c9
DTSTART:20250604T160000Z
SEQUENCE:0
TRANSP:OPAQUE
DTEND:20250604T183000Z
URL:https://www.dzs.cz/en/event/alumni-meetup-greece-2025
SUMMARY:Event: Alumni Meetup Greece 2025
CLASS:PUBLIC
DTSTAMP:20260423T083113Z
END:VEVENT
END:VCALENDAR