BEGIN:VCALENDAR
VERSION:2.0
PRODID:www.dzs.cz
BEGIN:VEVENT
UID:69ea04c8decd8
DTSTART:20250304T120000Z
SEQUENCE:0
TRANSP:OPAQUE
DTEND:20250304T143000Z
URL:https://www.dzs.cz/udalost/webinar-o-nabidce-stipendii-projektu-mezinar
 odni-spoluprace
SUMMARY:Event: Webinář o nabídce stipendií a projektů mezinárodní sp
 olupráce
CLASS:PUBLIC
DTSTAMP:20260423T113848Z
END:VEVENT
END:VCALENDAR