BEGIN:VCALENDAR
VERSION:2.0
PRODID:www.dzs.cz
BEGIN:VEVENT
UID:69ea005d78c7a
DTSTART:20250115T090000Z
SEQUENCE:0
TRANSP:OPAQUE
DTEND:20250115T110000Z
URL:https://www.dzs.cz/udalost/vzdelavani-dospelych-webinar-pro-zadatele-pa
 rtnerstvi-pro-spolupraci-ka210-adu-ka220-adu
SUMMARY:Event: VZDĚLÁVÁNÍ DOSPĚLÝCH: Webinář pro žadatele Partners
 tví pro spolupráci (KA210-ADU a KA220-ADU) pro výzvu 2025
CLASS:PUBLIC
DTSTAMP:20260423T111957Z
END:VEVENT
END:VCALENDAR