BEGIN:VCALENDAR
VERSION:2.0
PRODID:www.dzs.cz
BEGIN:VEVENT
UID:69e9eb5cd7768
DTSTART:20250121T120000Z
SEQUENCE:0
TRANSP:OPAQUE
DTEND:20250121T150000Z
URL:https://www.dzs.cz/udalost/skolni-vzdelavani-seminar-pro-predkladani-za
 dosti-partnerstvi-pro-spolupraci-ka210-sch-1
SUMMARY:Event: ŠKOLNÍ VZDĚLÁVÁNÍ: Seminář pro předkládání žád
 ostí Partnerství pro spolupráci (KA210-SCH a KA220-SCH)
CLASS:PUBLIC
DTSTAMP:20260423T095020Z
END:VEVENT
END:VCALENDAR