BEGIN:VCALENDAR
VERSION:2.0
PRODID:www.dzs.cz
BEGIN:VEVENT
UID:69ea0487e0f83
DTSTART:20241202T130000Z
SEQUENCE:0
TRANSP:OPAQUE
DTEND:20241202T160000Z
URL:https://www.dzs.cz/udalost/sport-seminar-erasmus-sport-ve-zline
SUMMARY:Event: SPORT | Seminář Erasmus+ Sport ve Zlíně
CLASS:PUBLIC
DTSTAMP:20260423T113743Z
END:VEVENT
END:VCALENDAR