BEGIN:VCALENDAR
VERSION:2.0
PRODID:www.dzs.cz
BEGIN:VEVENT
UID:69ea049addfad
DTSTART;VALUE=DATE:20241205
SEQUENCE:0
TRANSP:OPAQUE
DTEND;VALUE=DATE:20250228
URL:https://www.dzs.cz/udalost/mladez-online-konzultace-projekty-mezinarodn
 i-spoluprace-organizaci
SUMMARY:Event: MLÁDEŽ | Online konzultace: projekty mezinárodní spolupr
 áce organizací
CLASS:PUBLIC
X-MICROSOFT-CDO-ALLDAYEVENT:TRUE
DTSTAMP:20260423T113802Z
END:VEVENT
END:VCALENDAR