BEGIN:VCALENDAR
VERSION:2.0
PRODID:www.dzs.cz
BEGIN:VEVENT
UID:69e9edf3e2ae1
DTSTART;VALUE=DATE:20241026
SEQUENCE:0
TRANSP:OPAQUE
DTEND;VALUE=DATE:20241027
URL:https://www.dzs.cz/en/event/alumni-meetup-thailand-2024
SUMMARY:Event: Alumni Meetup Thailand 2024
CLASS:PUBLIC
X-MICROSOFT-CDO-ALLDAYEVENT:TRUE
DTSTAMP:20260423T100123Z
END:VEVENT
END:VCALENDAR