BEGIN:VCALENDAR
VERSION:2.0
PRODID:www.dzs.cz
BEGIN:VEVENT
UID:69ea52a2c5463
DTSTART;VALUE=DATE:20241021
SEQUENCE:0
TRANSP:OPAQUE
DTEND;VALUE=DATE:20241026
URL:https://www.dzs.cz/udalost/study-visits-inclusion-and-diversity-czech-o
 rganisations-involved-volunteering
SUMMARY:Event: Study Visits on Inclusion and Diversity in Czech Organisatio
 ns Involved in Volunteering
CLASS:PUBLIC
X-MICROSOFT-CDO-ALLDAYEVENT:TRUE
DTSTAMP:20260423T171058Z
END:VEVENT
END:VCALENDAR