BEGIN:VCALENDAR
VERSION:2.0
PRODID:www.dzs.cz
BEGIN:VEVENT
UID:69e9edf469e05
DTSTART;VALUE=DATE:20241003
SEQUENCE:0
TRANSP:OPAQUE
DTEND;VALUE=DATE:20241005
URL:https://www.dzs.cz/udalost/konference-eua-funding-forum-sense-and-susta
 inability-future-paths-university-finances
SUMMARY:Event: EUA Funding forum – Sense and sustainability: future paths
  for university finances
CLASS:PUBLIC
X-MICROSOFT-CDO-ALLDAYEVENT:TRUE
DTSTAMP:20260423T100124Z
END:VEVENT
END:VCALENDAR