BEGIN:VCALENDAR
VERSION:2.0
PRODID:www.dzs.cz
BEGIN:VEVENT
UID:69e9d8cfa36a0
DTSTART;VALUE=DATE:20240618
SEQUENCE:0
TRANSP:OPAQUE
DTEND;VALUE=DATE:20240919
URL:https://www.dzs.cz/udalost/skolni-vzdelavani-informacni-kampan-k-predkl
 adani-zadosti-ka120-akreditovane-projekty-0
SUMMARY:Event: ŠKOLNÍ VZDĚLÁVÁNÍ: Informační kampaň k předkládá
 ní žádostí KA120 – Akreditované projekty mobility žáků a pracovn
 íků ve školním vzdělávání
CLASS:PUBLIC
X-MICROSOFT-CDO-ALLDAYEVENT:TRUE
DTSTAMP:20260423T083111Z
END:VEVENT
END:VCALENDAR