BEGIN:VCALENDAR
VERSION:2.0
PRODID:www.dzs.cz
BEGIN:VEVENT
UID:69e9ee1f91858
DTSTART;VALUE=DATE:20240527
SEQUENCE:0
TRANSP:OPAQUE
DTEND;VALUE=DATE:20240529
URL:https://www.dzs.cz/udalost/konference-k-20-vyroci-erasmus-mundus
SUMMARY:Event: Erasmus Mundus 20th Anniversary Conference
CLASS:PUBLIC
X-MICROSOFT-CDO-ALLDAYEVENT:TRUE
DTSTAMP:20260423T100207Z
END:VEVENT
END:VCALENDAR