BEGIN:VCALENDAR
VERSION:2.0
PRODID:www.dzs.cz
BEGIN:VEVENT
UID:69e9eba9ad5d7
DTSTART;VALUE=DATE:20240916
SEQUENCE:0
TRANSP:OPAQUE
DTEND;VALUE=DATE:20240917
URL:https://www.dzs.cz/udalost/akademie-quality-label-jak-na-uspesnou-reali
 zaci-dobrovolnickych-projektu
SUMMARY:Event: Akademie Quality Label: jak na úspěšnou realizaci dobrovo
 lnických projektů
CLASS:PUBLIC
X-MICROSOFT-CDO-ALLDAYEVENT:TRUE
DTSTAMP:20260423T095137Z
END:VEVENT
END:VCALENDAR