BEGIN:VCALENDAR
VERSION:2.0
PRODID:www.dzs.cz
BEGIN:VEVENT
UID:69ea5284b0727
DTSTART:20240110T140000Z
SEQUENCE:0
TRANSP:OPAQUE
DTEND:20240110T153000Z
URL:https://www.dzs.cz/udalost/informacni-webinar-pro-podporene-zadatele-so
 lidarni-projekty-6
SUMMARY:Event: Informační webinář pro podpořené žadatele – SOLIDÁ
 RNÍ PROJEKTY 
CLASS:PUBLIC
DTSTAMP:20260423T171028Z
END:VEVENT
END:VCALENDAR