BEGIN:VCALENDAR
VERSION:2.0
PRODID:www.dzs.cz
BEGIN:VEVENT
UID:69ea0467a7554
DTSTART:20231130T084500Z
SEQUENCE:0
TRANSP:OPAQUE
DTEND:20231130T113000Z
URL:https://www.dzs.cz/udalost/infowebinar-eacea-budovani-kapacit-ve-vysoko
 skolskem-vzdelavani
SUMMARY:Event: EACEA Info session Capacity Building in Higher Education
CLASS:PUBLIC
DTSTAMP:20260423T113711Z
END:VEVENT
END:VCALENDAR