BEGIN:VCALENDAR
VERSION:2.0
PRODID:www.dzs.cz
BEGIN:VEVENT
UID:69e9edf295155
DTSTART;VALUE=DATE:20231021
SEQUENCE:0
TRANSP:OPAQUE
DTEND;VALUE=DATE:20231022
URL:https://www.dzs.cz/en/event/alumni-meetup-thailand
SUMMARY:Event: Alumni Meetup Thailand
CLASS:PUBLIC
X-MICROSOFT-CDO-ALLDAYEVENT:TRUE
DTSTAMP:20260423T100122Z
END:VEVENT
END:VCALENDAR