BEGIN:VCALENDAR
VERSION:2.0
PRODID:www.dzs.cz
BEGIN:VEVENT
UID:69e9ee61c6069
DTSTART:20231010T070000Z
SEQUENCE:0
TRANSP:OPAQUE
DTEND:20231010T150000Z
URL:https://www.dzs.cz/udalost/evropsky-prostor-vzdelavani-strednedobe-hodn
 oceni
SUMMARY:Event: European Education Area - mid-term review event
CLASS:PUBLIC
DTSTAMP:20260423T100313Z
END:VEVENT
END:VCALENDAR