BEGIN:VCALENDAR
VERSION:2.0
PRODID:www.dzs.cz
BEGIN:VEVENT
UID:69ea52a28f66e
DTSTART:20230926T130000Z
SEQUENCE:0
TRANSP:OPAQUE
DTEND:20230926T143000Z
URL:https://www.dzs.cz/udalost/tipy-k-zadosti-o-solidarni-projekty-0
SUMMARY:Event: Tipy k žádosti o solidární projekty
CLASS:PUBLIC
DTSTAMP:20260423T171058Z
END:VEVENT
END:VCALENDAR