BEGIN:VCALENDAR
VERSION:2.0
PRODID:www.dzs.cz
BEGIN:VEVENT
UID:69e9eb4cd9821
DTSTART:20230906T070000Z
SEQUENCE:0
TRANSP:OPAQUE
DTEND:20230906T100000Z
URL:https://www.dzs.cz/udalost/mladez-informacni-webinar-pro-zajemce-o-proj
 ekty-vymen-mladeze-mobilit-pracovniku
SUMMARY:Event: MLÁDEŽ: Informační webinář pro zájemce o projekty vý
 měn mládeže\, mobilit pracovníků a participace mládeže (KA1)
CLASS:PUBLIC
DTSTAMP:20260423T095004Z
END:VEVENT
END:VCALENDAR