BEGIN:VCALENDAR
VERSION:2.0
PRODID:www.dzs.cz
BEGIN:VEVENT
UID:69e9ee3c81e91
DTSTART:20230612T120000Z
SEQUENCE:0
TRANSP:OPAQUE
DTEND:20230612T140000Z
URL:https://www.dzs.cz/udalost/webinar-na-tema-etickeho-vyuziti-umele-intel
 igence-pro-vzdelavatele
SUMMARY:Event: Webinar on the topic of ethical use of AI
CLASS:PUBLIC
DTSTAMP:20260423T100236Z
END:VEVENT
END:VCALENDAR