BEGIN:VCALENDAR
VERSION:2.0
PRODID:www.dzs.cz
BEGIN:VEVENT
UID:69e9cee7e4fc1
DTSTART:20200923T170000Z
SEQUENCE:0
TRANSP:OPAQUE
DTEND:20200923T180000Z
URL:https://www.dzs.cz/udalost/cizi-jazyky-projekty-etwinning
SUMMARY:Event: Foreign Languages in eTwinning Projects
CLASS:PUBLIC
DTSTAMP:20260423T074855Z
END:VEVENT
END:VCALENDAR