BEGIN:VCALENDAR
VERSION:2.0
PRODID:www.dzs.cz
BEGIN:VEVENT
UID:69e9ee21f20e7
DTSTART;VALUE=DATE:20220907
SEQUENCE:0
TRANSP:OPAQUE
DTEND;VALUE=DATE:20220908
URL:https://www.dzs.cz/udalost/webinar-na-tema-uvod-do-dusevniho-vlastnictv
 i-ip
SUMMARY:Event: Webinar on introduction to IP 
CLASS:PUBLIC
X-MICROSOFT-CDO-ALLDAYEVENT:TRUE
DTSTAMP:20260423T100209Z
END:VEVENT
END:VCALENDAR