BEGIN:VCALENDAR
VERSION:2.0
PRODID:www.dzs.cz
BEGIN:VEVENT
UID:69e9ee1ed5104
DTSTART;VALUE=DATE:20221102
SEQUENCE:0
TRANSP:OPAQUE
DTEND;VALUE=DATE:20221104
URL:https://www.dzs.cz/udalost/solidarni-projekty-role-zastresujicich-organ
 izaci
SUMMARY:Event: Solidární projekty – role zastřešujících organizací
CLASS:PUBLIC
X-MICROSOFT-CDO-ALLDAYEVENT:TRUE
DTSTAMP:20260423T100206Z
END:VEVENT
END:VCALENDAR