BEGIN:VCALENDAR
VERSION:2.0
PRODID:www.dzs.cz
BEGIN:VEVENT
UID:69e9eb9fd36f3
DTSTART;VALUE=DATE:20220906
SEQUENCE:0
TRANSP:OPAQUE
DTEND;VALUE=DATE:20220907
URL:https://www.dzs.cz/udalost/informacni-webinar-k-solidarnim-projektum-pr
 ogramu-evropsky-sbor-solidarity-0
SUMMARY:Event: Informační webinář k solidárním projektům programu 
 Evropský sbor solidarity
CLASS:PUBLIC
X-MICROSOFT-CDO-ALLDAYEVENT:TRUE
DTSTAMP:20260423T095127Z
END:VEVENT
END:VCALENDAR