BEGIN:VCALENDAR
VERSION:2.0
PRODID:www.dzs.cz
BEGIN:VEVENT
UID:69ea04fca21a8
DTSTART;VALUE=DATE:20221104
SEQUENCE:0
TRANSP:OPAQUE
DTEND;VALUE=DATE:20221106
URL:https://www.dzs.cz/udalost/vyrocni-setkani-evropskeho-sboru-solidarity-
 2022
SUMMARY:Event: Výroční setkání Evropského sboru solidarity 2022
CLASS:PUBLIC
X-MICROSOFT-CDO-ALLDAYEVENT:TRUE
DTSTAMP:20260423T113940Z
END:VEVENT
END:VCALENDAR