BEGIN:VCALENDAR
VERSION:2.0
PRODID:www.dzs.cz
BEGIN:VEVENT
UID:69e9ee3be1a7f
DTSTART:20220614T140000Z
SEQUENCE:0
TRANSP:OPAQUE
DTEND:20220614T150000Z
URL:https://www.dzs.cz/udalost/webinar-co-dal-s-globalnim-vysokoskolskym-vz
 delavanim
SUMMARY:Event: Webinar What next for global higher education? 
CLASS:PUBLIC
DTSTAMP:20260423T100235Z
END:VEVENT
END:VCALENDAR