BEGIN:VCALENDAR
VERSION:2.0
PRODID:www.dzs.cz
BEGIN:VEVENT
UID:69e9edfb0e32b
DTSTART:20220427T073000Z
SEQUENCE:0
TRANSP:OPAQUE
DTEND:20220427T093000Z
URL:https://www.dzs.cz/udalost/informacni-webinar-k-systemu-beneficiary-mod
 ule-dobrovolnicke-projekty
SUMMARY:Event: Informační webinář k systému Beneficiary Module – d
 obrovolnické projekty
CLASS:PUBLIC
DTSTAMP:20260423T100131Z
END:VEVENT
END:VCALENDAR