BEGIN:VCALENDAR
VERSION:2.0
PRODID:www.dzs.cz
BEGIN:VEVENT
UID:69ea8f82ccff6
DTSTART;VALUE=DATE:20220518
SEQUENCE:0
TRANSP:OPAQUE
DTEND;VALUE=DATE:20220521
URL:https://www.dzs.cz/udalost/svetova-konference-o-vysokoskolskem-vzdelava
 ni-unesco
SUMMARY:Event: UNESCO World Higher Education Conference 2022
CLASS:PUBLIC
X-MICROSOFT-CDO-ALLDAYEVENT:TRUE
DTSTAMP:20260423T213042Z
END:VEVENT
END:VCALENDAR