BEGIN:VCALENDAR
VERSION:2.0
PRODID:www.dzs.cz
BEGIN:VEVENT
UID:69e9d904a93cd
DTSTART;VALUE=DATE:20220308
SEQUENCE:0
TRANSP:OPAQUE
DTEND;VALUE=DATE:20220309
URL:https://www.dzs.cz/udalost/czelo-vas-zve-na-diskuzi-k-vesmirnemu-pocasi
SUMMARY:Event: CZELO invites you to its Science Café on space weather
CLASS:PUBLIC
X-MICROSOFT-CDO-ALLDAYEVENT:TRUE
DTSTAMP:20260423T083204Z
END:VEVENT
END:VCALENDAR