BEGIN:VCALENDAR
VERSION:2.0
PRODID:www.dzs.cz
BEGIN:VEVENT
UID:69e9ee0029127
DTSTART:20220110T150000Z
SEQUENCE:0
TRANSP:OPAQUE
DTEND:20220124T163000Z
URL:https://www.dzs.cz/udalost/erasmus-nove-prilezitosti-pro-cesky-sport
SUMMARY:Event: Erasmus+: Nové příležitosti pro český sport
CLASS:PUBLIC
DTSTAMP:20260423T100136Z
END:VEVENT
END:VCALENDAR