BEGIN:VCALENDAR
VERSION:2.0
PRODID:www.dzs.cz
BEGIN:VEVENT
UID:69ea47136a0df
DTSTART;VALUE=DATE:20211208
SEQUENCE:0
TRANSP:OPAQUE
DTEND;VALUE=DATE:20211210
URL:https://www.dzs.cz/udalost/internacionalizace-vs-vzdelavani-pro-spolecn
 ost-ihes-konference
SUMMARY:Event: Internationalisation in Higher Education for Society (IHES):
  Conference
CLASS:PUBLIC
X-MICROSOFT-CDO-ALLDAYEVENT:TRUE
DTSTAMP:20260423T162139Z
END:VEVENT
END:VCALENDAR