BEGIN:VCALENDAR
VERSION:2.0
PRODID:www.dzs.cz
BEGIN:VEVENT
UID:69e9ee613cd74
DTSTART:20211202T083000Z
SEQUENCE:0
TRANSP:OPAQUE
DTEND:20211202T113000Z
URL:https://www.dzs.cz/udalost/budovani-kapacit-v-oblasti-vs-vzdelavani-inf
 owebinar-k-vyzve-2022
SUMMARY:Event: Capacity Building in Higher Education: Infowebinar on Call 2
 022
CLASS:PUBLIC
DTSTAMP:20260423T100313Z
END:VEVENT
END:VCALENDAR