BEGIN:VCALENDAR
VERSION:2.0
PRODID:www.dzs.cz
BEGIN:VEVENT
UID:69ea04879d622
DTSTART:20211205T090000Z
SEQUENCE:0
TRANSP:OPAQUE
DTEND:20211205T150000Z
URL:https://www.dzs.cz/udalost/umeni-sebeprezentace-pri-praci-s-mladezi
SUMMARY:Event: Umění sebePREZENTACE při práci s mládeží
CLASS:PUBLIC
DTSTAMP:20260423T113743Z
END:VEVENT
END:VCALENDAR