BEGIN:VCALENDAR
VERSION:2.0
PRODID:www.dzs.cz
BEGIN:VEVENT
UID:69eaa31571d20
DTSTART;VALUE=DATE:20211201
SEQUENCE:0
TRANSP:OPAQUE
DTEND;VALUE=DATE:20211202
URL:https://www.dzs.cz/udalost/informacni-udalost-2-moznosti-financovani-v-
 ramci-noveho-evropskeho-bauhausu
SUMMARY:Event: Info session 2: New European Bauhaus funding opportunities
CLASS:PUBLIC
X-MICROSOFT-CDO-ALLDAYEVENT:TRUE
DTSTAMP:20260423T225413Z
END:VEVENT
END:VCALENDAR