BEGIN:VCALENDAR
VERSION:2.0
PRODID:www.dzs.cz
BEGIN:VEVENT
UID:69e9ee3d0db38
DTSTART;VALUE=DATE:20211129
SEQUENCE:0
TRANSP:OPAQUE
DTEND;VALUE=DATE:20211202
URL:https://www.dzs.cz/udalost/informacni-dny-ke-klastru-4-horizontu-evropa
SUMMARY:Event: Info-days for Horizon Europe Cluster 4 
CLASS:PUBLIC
X-MICROSOFT-CDO-ALLDAYEVENT:TRUE
DTSTAMP:20260423T100237Z
END:VEVENT
END:VCALENDAR