BEGIN:VCALENDAR
VERSION:2.0
PRODID:www.dzs.cz
BEGIN:VEVENT
UID:69e9edf38346b
DTSTART;VALUE=DATE:20211122
SEQUENCE:0
TRANSP:OPAQUE
DTEND;VALUE=DATE:20211126
URL:https://www.dzs.cz/udalost/konference-concordi-2021-prumyslove-inovace-
 pro-konkurenceschopnou-udrzitelnost
SUMMARY:Event: Conference CONCORDi 2021- Industrial innovation for competit
 ive sustainability
CLASS:PUBLIC
X-MICROSOFT-CDO-ALLDAYEVENT:TRUE
DTSTAMP:20260423T100123Z
END:VEVENT
END:VCALENDAR