BEGIN:VCALENDAR
VERSION:2.0
PRODID:www.dzs.cz
BEGIN:VEVENT
UID:69e9d8e309371
DTSTART;VALUE=DATE:20211103
SEQUENCE:0
TRANSP:OPAQUE
DTEND;VALUE=DATE:20211104
URL:https://www.dzs.cz/udalost/webinar-effective-ip-and-outreach-strategies
SUMMARY:Event: Webinar Effective IP and Outreach Strategies 
CLASS:PUBLIC
X-MICROSOFT-CDO-ALLDAYEVENT:TRUE
DTSTAMP:20260423T083131Z
END:VEVENT
END:VCALENDAR