BEGIN:VCALENDAR
VERSION:2.0
PRODID:www.dzs.cz
BEGIN:VEVENT
UID:69e9ee010fec4
DTSTART;VALUE=DATE:20211028
SEQUENCE:0
TRANSP:OPAQUE
DTEND;VALUE=DATE:20211029
URL:https://www.dzs.cz/udalost/webinar-partnerska-burza-na-tema-horizontu-e
 vropa-evropskeho-obranneho-fondu
SUMMARY:Event: Online webinar and Brokerage \"Horizon Europe and European D
 efence Fund: differences and similarities\"
CLASS:PUBLIC
X-MICROSOFT-CDO-ALLDAYEVENT:TRUE
DTSTAMP:20260423T100137Z
END:VEVENT
END:VCALENDAR